BEGIN:VCALENDAR
VERSION:2.0
METHOD:PUBLISH
CALSCALE:GREGORIAN
PRODID:-//WordPress - MECv7.31.0//EN
X-ORIGINAL-URL:https://jeremysfarmtotable.com/
X-WR-CALNAME:Jeremy&#039;s Farm to Table
X-WR-CALDESC:
X-WR-TIMEZONE:America/Los_Angeles
BEGIN:VTIMEZONE
TZID:America/Los_Angeles
X-LIC-LOCATION:America/Los_Angeles
BEGIN:DAYLIGHT
TZOFFSETFROM:-0800
TZOFFSETTO:-0700
TZNAME:PDT
DTSTART:20260308T030000
RRULE:FREQ=YEARLY;BYMONTH=03;BYDAY=2SU
END:DAYLIGHT
BEGIN:STANDARD
TZOFFSETFROM:-0700
TZOFFSETTO:-0800
TZNAME:PST
DTSTART:20261101T010000
RRULE:FREQ=YEARLY;BYMONTH=11;BYDAY=1SU
END:STANDARD
END:VTIMEZONE
REFRESH-INTERVAL;VALUE=DURATION:PT1H
X-PUBLISHED-TTL:PT1H
X-MS-OLK-FORCEINSPECTOROPEN:TRUE
BEGIN:VEVENT
CLASS:PUBLIC
UID:MEC-838e8afb1ca34354ac209f53d90c3a43@jeremysfarmtotable.com
DTSTART;TZID=America/Los_Angeles:20260510T080000
DTEND;TZID=America/Los_Angeles:20260510T180000
DTSTAMP:20260227T163932Z
CREATED:20260227
LAST-MODIFIED:20260408
PRIORITY:5
SEQUENCE:6
TRANSP:OPAQUE
SUMMARY:Mother’s Day Buffet
DESCRIPTION:\nMenu\n\n\n\n\n\n\nClassic Scrambles\n\n\n\nNitrate-Free Bacon\n\n\n\nGF Pancakes\n\n\n\nGF Biscuits & Gravy\n\n\n\nFresh Seasonal Fruit\n\n\n\nYakima Asparagus\n\n\n\n\n\n\n\nPNW Prime Rib\n\n\n\nGlazed Ham\n\n\n\nPesto Salmon\n\n\n\nSpecialty Salads\n\n\n\nGluten-Free Desserts\n\n\n\nAnd Much More\n\n\n\n\n\n\nBreakfast items served until 2 PM\n\n\n\n\n\n\n\nCost\n\n\n\n\nAdults $55\n\n\n\nKids (6–12) $25\n\n\n\nSeniors $49\n\n\n\n5 & Under Free\n\n\n\n\nAdvanced reservations suggested\n\n\n\n\n
URL:https://jeremysfarmtotable.com/events/mothers-day-buffet/
CATEGORIES:Special Events
ATTACH;FMTTYPE=image/webp:https://i0.wp.com/jeremysfarmtotable.com/wp-content/uploads/2026/02/Mothers-Day-Brunch-Header.webp?fit=989%2C371&#038;ssl=1
END:VEVENT
END:VCALENDAR
